BEGIN:VCALENDAR
VERSION:2.0
PRODID:-//Les Entêtés Production - ECPv5.14.0.3//NONSGML v1.0//EN
CALSCALE:GREGORIAN
METHOD:PUBLISH
X-WR-CALNAME:Les Entêtés Production
X-ORIGINAL-URL:https://lesentetes.com
X-WR-CALDESC:évènements pour Les Entêtés Production
BEGIN:VTIMEZONE
TZID:Europe/Paris
BEGIN:DAYLIGHT
TZOFFSETFROM:+0100
TZOFFSETTO:+0200
TZNAME:CEST
DTSTART:20240331T010000
END:DAYLIGHT
BEGIN:STANDARD
TZOFFSETFROM:+0200
TZOFFSETTO:+0100
TZNAME:CET
DTSTART:20241027T010000
END:STANDARD
END:VTIMEZONE
BEGIN:VEVENT
DTSTART;TZID=Europe/Paris:20240328T150000
DTEND;TZID=Europe/Paris:20240328T160000
DTSTAMP:20260423T195726
CREATED:20240222T084933Z
LAST-MODIFIED:20240222T084933Z
UID:16760-1711638000-1711641600@lesentetes.com
SUMMARY:TÉKLASH - Résidence Pierre Paillet\, Gruffy (74)
DESCRIPTION:Ouvert à tous ! \nHoraires à venir \nDans le cadre du dispositif ARPA du Département de la Haute-Savoie
URL:https://lesentetes.com/event/teklash-residence-pierre-paillet-gruffy-74/
LOCATION:M.A.P.A.D Résidence Pierre Paillet\, Route de la Grive\, Gruffy\, 74540\, France
CATEGORIES:Téklash
END:VEVENT
END:VCALENDAR