BEGIN:VCALENDAR
VERSION:2.0
PRODID:-//Les Entêtés Production - ECPv5.14.0.3//NONSGML v1.0//EN
CALSCALE:GREGORIAN
METHOD:PUBLISH
X-WR-CALNAME:Les Entêtés Production
X-ORIGINAL-URL:https://lesentetes.com
X-WR-CALDESC:évènements pour Les Entêtés Production
BEGIN:VTIMEZONE
TZID:Europe/Paris
BEGIN:DAYLIGHT
TZOFFSETFROM:+0100
TZOFFSETTO:+0200
TZNAME:CEST
DTSTART:20260329T010000
END:DAYLIGHT
BEGIN:STANDARD
TZOFFSETFROM:+0200
TZOFFSETTO:+0100
TZNAME:CET
DTSTART:20261025T010000
END:STANDARD
END:VTIMEZONE
BEGIN:VEVENT
DTSTART;TZID=Europe/Paris:20260807T170000
DTEND;TZID=Europe/Paris:20260807T183000
DTSTAMP:20260424T034513
CREATED:20260105T153621Z
LAST-MODIFIED:20260313T155159Z
UID:19359-1786122000-1786127400@lesentetes.com
SUMMARY:TRALALA LOVERS - Montelago Festival (IT)
DESCRIPTION:informations à venir
URL:https://lesentetes.com/event/tralala-lovers-montelago-festival-it-2/
LOCATION:Montelago Celtic Festival\, Altopiano di Colfiorito\, Serravalle di Chienti\, 62038\, Italie
CATEGORIES:Tralala Lovers
END:VEVENT
END:VCALENDAR