BEGIN:VCALENDAR
VERSION:2.0
PRODID:-//Les Entêtés Production - ECPv5.14.0.3//NONSGML v1.0//EN
CALSCALE:GREGORIAN
METHOD:PUBLISH
X-WR-CALNAME:Les Entêtés Production
X-ORIGINAL-URL:https://lesentetes.com
X-WR-CALDESC:évènements pour Les Entêtés Production
BEGIN:VTIMEZONE
TZID:Europe/Paris
BEGIN:DAYLIGHT
TZOFFSETFROM:+0100
TZOFFSETTO:+0200
TZNAME:CEST
DTSTART:20240331T010000
END:DAYLIGHT
BEGIN:STANDARD
TZOFFSETFROM:+0200
TZOFFSETTO:+0100
TZNAME:CET
DTSTART:20241027T010000
END:STANDARD
END:VTIMEZONE
BEGIN:VEVENT
DTSTART;TZID=Europe/Paris:20241003T173000
DTEND;TZID=Europe/Paris:20241003T190000
DTSTAMP:20260422T044555
CREATED:20240718T135413Z
LAST-MODIFIED:20241002T143850Z
UID:17197-1727976600-1727982000@lesentetes.com
SUMMARY:TRAM et Mélissa Zantman\, En cavale sur les Sentiers\, Saint Romain de Surieu (38)
DESCRIPTION:https://www.facebook.com/events/471030279132956/?ref=newsfeed \nLes 5 centres sociaux du territoire Entre Bièvre et Rhône s’associent dans un projet culturel itinérant\, en musique et sur les sentiers d’EBER\, avec le groupe de Pop’n’Trad Tram des Balkans et Mélissa Zantman.\nRejoignez nous sur les routes du territoire\, suivez la musique et participez aux 5 concerts proposés dans des lieux patrimoniaux de nos villages !\nRendez-vous du 1er au 5 octobre 2024 :– au Prieuré de Salaise-sur-Sanne– à la Tour d’Anjou– à la Saint-Lazare à Saint-Romain-de-Surieu (repli au Centre Social des 4 vents)– au Château de Montseveroux– au Croton à Revel-Tourdan\nPlus d’infos auprès de chaque centre social.Programme :https://lesentetes.com/wp-content/uploads/2024/09/programme-A5-TRAM-VF-web.pdf
URL:https://lesentetes.com/event/tram-et-melissa-zantman-en-cavale-sur-les-sentiers-saint-romain-de-surieu-38/
LOCATION:Centre Social Les 4 Vents\, 30 rue de la Chapelle\, Saint Romain de Surieu\, 38150\, France
CATEGORIES:Tram,Trametmelissa
END:VEVENT
END:VCALENDAR