BEGIN:VCALENDAR
VERSION:2.0
PRODID:-//Les Entêtés Production - ECPv5.14.0.3//NONSGML v1.0//EN
CALSCALE:GREGORIAN
METHOD:PUBLISH
X-WR-CALNAME:Les Entêtés Production
X-ORIGINAL-URL:https://lesentetes.com
X-WR-CALDESC:évènements pour Les Entêtés Production
BEGIN:VTIMEZONE
TZID:Europe/Paris
BEGIN:DAYLIGHT
TZOFFSETFROM:+0100
TZOFFSETTO:+0200
TZNAME:CEST
DTSTART:20240331T010000
END:DAYLIGHT
BEGIN:STANDARD
TZOFFSETFROM:+0200
TZOFFSETTO:+0100
TZNAME:CET
DTSTART:20241027T010000
END:STANDARD
END:VTIMEZONE
BEGIN:VEVENT
DTSTART;TZID=Europe/Paris:20241018T203000
DTEND;TZID=Europe/Paris:20241018T220000
DTSTAMP:20260422T044556
CREATED:20240828T095413Z
LAST-MODIFIED:20241010T072124Z
UID:17310-1729283400-1729288800@lesentetes.com
SUMMARY:TRAM et Mélissa Zantman\, En cavale - La Canopée\, Ruffec (16)
DESCRIPTION:Vendredi 18 octobre 2024 à 20h30 \nhttps://la-canopee.fr/theatre/index.php?page=programmation&spectacle=376 \n  \n 
URL:https://lesentetes.com/event/tram-et-melissa-zantman-en-cavale-la-canopee-ruffec-16/
LOCATION:La Canopée\, place du jumelage\, Ruffec\, 16700\, France
CATEGORIES:Tram,Trametmelissa
END:VEVENT
END:VCALENDAR