BEGIN:VCALENDAR
VERSION:2.0
PRODID:-//Les Entêtés Production - ECPv5.14.0.3//NONSGML v1.0//EN
CALSCALE:GREGORIAN
METHOD:PUBLISH
X-WR-CALNAME:Les Entêtés Production
X-ORIGINAL-URL:https://lesentetes.com
X-WR-CALDESC:évènements pour Les Entêtés Production
BEGIN:VTIMEZONE
TZID:Europe/Paris
BEGIN:DAYLIGHT
TZOFFSETFROM:+0100
TZOFFSETTO:+0200
TZNAME:CEST
DTSTART:20240331T010000
END:DAYLIGHT
BEGIN:STANDARD
TZOFFSETFROM:+0200
TZOFFSETTO:+0100
TZNAME:CET
DTSTART:20241027T010000
END:STANDARD
END:VTIMEZONE
BEGIN:VEVENT
DTSTART;TZID=Europe/Paris:20241026T203000
DTEND;TZID=Europe/Paris:20241026T220000
DTSTAMP:20260422T044819
CREATED:20240828T095523Z
LAST-MODIFIED:20241016T124349Z
UID:17319-1729974600-1729980000@lesentetes.com
SUMMARY:TRAM des Balkans\, Kobiz Project - Calibert en Scène\, Mazet Saint Voy (43)
DESCRIPTION:Samedi 26 octobre 2024 à 20h30 \nSoirée d’ouverture « Un mois pour les ROMS » en partenariat avec l’association « Affaires de goûts » \n19h Accueil\, petite restauration en présence de l’association de promotion des gens du voyage (APGV) \nLibrairie éphémère de l’Arbre Vagabond \n20h00: Rencontre avec l’association régionale des Tziganes et leurs amis gadgé (ARTAG) et la maison des Passages. \n20h30: Concert KOBIZ PROJECT
URL:https://lesentetes.com/event/tram-des-balkans-kobiz-project-calibert-en-scene-mazet-saint-voy-43/
LOCATION:Calibert en Scène\, Le Bruas\, Mazet Saint Voy\, 43520\, France
CATEGORIES:Tram
END:VEVENT
END:VCALENDAR