BEGIN:VCALENDAR
VERSION:2.0
PRODID:-//Les Entêtés Production - ECPv5.14.0.3//NONSGML v1.0//EN
CALSCALE:GREGORIAN
METHOD:PUBLISH
X-WR-CALNAME:Les Entêtés Production
X-ORIGINAL-URL:https://lesentetes.com
X-WR-CALDESC:évènements pour Les Entêtés Production
BEGIN:VTIMEZONE
TZID:Europe/Paris
BEGIN:DAYLIGHT
TZOFFSETFROM:+0100
TZOFFSETTO:+0200
TZNAME:CEST
DTSTART:20250330T010000
END:DAYLIGHT
BEGIN:STANDARD
TZOFFSETFROM:+0200
TZOFFSETTO:+0100
TZNAME:CET
DTSTART:20251026T010000
END:STANDARD
END:VTIMEZONE
BEGIN:VEVENT
DTSTART;TZID=Europe/Paris:20250615T183000
DTEND;TZID=Europe/Paris:20250615T200000
DTSTAMP:20260421T033052
CREATED:20250325T151351Z
LAST-MODIFIED:20250325T151351Z
UID:18206-1750012200-1750017600@lesentetes.com
SUMMARY:TRAM Alligator Tour - Festival Robinson\, Péniche Spectacle\, Saint Grégoire (35)
DESCRIPTION:En partenariat avec le Festival Robinson \nST GRÉGOIRE – Sur la Péniche Spectacle amarrée à la Cale Robinson\nDimanche 15 Juin – 18h30- Gratuit\nRenseignements : www.saint-gregoire.fr\nhttps://penichespectacle.com/pages/les-spectacles-de-la-saison-nomade-2025-604.php#p604
URL:https://lesentetes.com/event/tram-alligator-tour-festival-robinson-peniche-spectacle-saint-gregoire-35/
LOCATION:Péniche Spectacle – Festival Robinson\, La Cale Robinson\, Saint Grégoire\, 35760\, France
CATEGORIES:Tram
END:VEVENT
END:VCALENDAR