BEGIN:VCALENDAR
VERSION:2.0
PRODID:-//Les Entêtés Production - ECPv5.14.0.3//NONSGML v1.0//EN
CALSCALE:GREGORIAN
METHOD:PUBLISH
X-WR-CALNAME:Les Entêtés Production
X-ORIGINAL-URL:https://lesentetes.com
X-WR-CALDESC:évènements pour Les Entêtés Production
BEGIN:VTIMEZONE
TZID:Europe/Paris
BEGIN:DAYLIGHT
TZOFFSETFROM:+0100
TZOFFSETTO:+0200
TZNAME:CEST
DTSTART:20250330T010000
END:DAYLIGHT
BEGIN:STANDARD
TZOFFSETFROM:+0200
TZOFFSETTO:+0100
TZNAME:CET
DTSTART:20251026T010000
END:STANDARD
END:VTIMEZONE
BEGIN:VEVENT
DTSTART;TZID=Europe/Paris:20251211T200000
DTEND;TZID=Europe/Paris:20251211T213000
DTSTAMP:20260420T074632
CREATED:20250708T103520Z
LAST-MODIFIED:20250708T103520Z
UID:18420-1765483200-1765488600@lesentetes.com
SUMMARY:TRAM Alligator Tour - THV\, Saint Barthélémy d'Anjou (49)
DESCRIPTION:https://www.thv.fr/theatre/ \n 
URL:https://lesentetes.com/event/tram-alligator-tour-thv-saint-barthelemy-danjou-49/
LOCATION:THV\, 1 rue Jean Gilles\, Saint Barthélémy d'Anjou\, 49124\, France
CATEGORIES:Tram
END:VEVENT
END:VCALENDAR