BEGIN:VCALENDAR
VERSION:2.0
PRODID:-//Les Entêtés Production - ECPv5.14.0.3//NONSGML v1.0//EN
CALSCALE:GREGORIAN
METHOD:PUBLISH
X-WR-CALNAME:Les Entêtés Production
X-ORIGINAL-URL:https://lesentetes.com
X-WR-CALDESC:évènements pour Les Entêtés Production
BEGIN:VTIMEZONE
TZID:Europe/Paris
BEGIN:DAYLIGHT
TZOFFSETFROM:+0100
TZOFFSETTO:+0200
TZNAME:CEST
DTSTART:20250330T010000
END:DAYLIGHT
BEGIN:STANDARD
TZOFFSETFROM:+0200
TZOFFSETTO:+0100
TZNAME:CET
DTSTART:20251026T010000
END:STANDARD
END:VTIMEZONE
BEGIN:VEVENT
DTSTART;TZID=Europe/Paris:20251213T200000
DTEND;TZID=Europe/Paris:20251213T213000
DTSTAMP:20260420T074446
CREATED:20250708T104330Z
LAST-MODIFIED:20250708T104330Z
UID:18432-1765656000-1765661400@lesentetes.com
SUMMARY:TRAM Alligator Tour - Théâtre Philippe Noiret\, Doué en Anjou (49)
DESCRIPTION:informations à venir
URL:https://lesentetes.com/event/tram-alligator-tour-theatre-philippe-noiret-doue-en-anjou-49/
LOCATION:Théâtre Philippe Noiret\, Place des Fontaines\, Doué en Anjou\, 49700\, France
CATEGORIES:Tram
END:VEVENT
END:VCALENDAR