BEGIN:VCALENDAR
VERSION:2.0
PRODID:-//Les Entêtés Production - ECPv5.14.0.3//NONSGML v1.0//EN
CALSCALE:GREGORIAN
METHOD:PUBLISH
X-WR-CALNAME:Les Entêtés Production
X-ORIGINAL-URL:https://lesentetes.com
X-WR-CALDESC:évènements pour Les Entêtés Production
BEGIN:VTIMEZONE
TZID:Europe/Paris
BEGIN:DAYLIGHT
TZOFFSETFROM:+0100
TZOFFSETTO:+0200
TZNAME:CEST
DTSTART:20260329T010000
END:DAYLIGHT
BEGIN:STANDARD
TZOFFSETFROM:+0200
TZOFFSETTO:+0100
TZNAME:CET
DTSTART:20261025T010000
END:STANDARD
END:VTIMEZONE
BEGIN:VEVENT
DTSTART;TZID=Europe/Paris:20260620T210000
DTEND;TZID=Europe/Paris:20260620T223000
DTSTAMP:20260420T000832
CREATED:20260227T143124Z
LAST-MODIFIED:20260227T154549Z
UID:19564-1781989200-1781994600@lesentetes.com
SUMMARY:TRAM Alligator Tour - Chabeuil (26)
DESCRIPTION:concert à 21h place du Général de Gaulle \nrepli centre culturel de Chabeuil en cas de mauvaise météo
URL:https://lesentetes.com/event/tram-alligator-tour-chabeuil-26/
LOCATION:Fête de la Musique de Chabeuil\, Chabeuil\, 26120\, France
CATEGORIES:Tram
END:VEVENT
END:VCALENDAR