BEGIN:VCALENDAR
VERSION:2.0
PRODID:-//Les Entêtés Production - ECPv5.14.0.3//NONSGML v1.0//EN
CALSCALE:GREGORIAN
METHOD:PUBLISH
X-WR-CALNAME:Les Entêtés Production
X-ORIGINAL-URL:https://lesentetes.com
X-WR-CALDESC:évènements pour Les Entêtés Production
BEGIN:VTIMEZONE
TZID:Europe/Paris
BEGIN:DAYLIGHT
TZOFFSETFROM:+0100
TZOFFSETTO:+0200
TZNAME:CEST
DTSTART:20260329T010000
END:DAYLIGHT
BEGIN:STANDARD
TZOFFSETFROM:+0200
TZOFFSETTO:+0100
TZNAME:CET
DTSTART:20261025T010000
END:STANDARD
END:VTIMEZONE
BEGIN:VEVENT
DTSTART;TZID=Europe/Paris:20260602T200000
DTEND;TZID=Europe/Paris:20260602T213000
DTSTAMP:20260419T203815
CREATED:20260109T160926Z
LAST-MODIFIED:20260109T160944Z
UID:19457-1780430400-1780435800@lesentetes.com
SUMMARY:TRAM et Mélissa Zantman\, En cavale - Bellevaux (74)
DESCRIPTION:En cavale \n \n 
URL:https://lesentetes.com/event/tram-et-melissa-zantman-en-cavale-bellevaux-74/
LOCATION:Salle des Fêtes de Bellevaux\, 111 rue de la Cour\, Bellevaux\, 74470\, France
CATEGORIES:Trametmelissa
END:VEVENT
END:VCALENDAR